BEGIN:VCALENDAR
PRODID:-//AT Content Types//AT Event//EN
VERSION:2.0
METHOD:PUBLISH
BEGIN:VEVENT
DTSTAMP:20210829T122931Z
CREATED:20180426T165213Z
UID:ATEvent-21968a92f33344ba89bdb2278f729ceb
LAST-MODIFIED:20180426T165240Z
SUMMARY:Weekend Internacional 60's\, vehicles antics
DTSTART:20180512T070000Z
DTEND:20180513T140000Z
LOCATION:Prat Gran d'Encamp
CATEGORIES:Concentracions i trobades
CONTACT:AAVA\, +376 335 798
CLASS:PUBLIC
END:VEVENT
END:VCALENDAR
