BEGIN:VCALENDAR
PRODID:-//AT Content Types//AT Event//EN
VERSION:2.0
METHOD:PUBLISH
BEGIN:VEVENT
DTSTAMP:20210829T122925Z
CREATED:20170509T114941Z
UID:ATEvent-8acc2ddff85b4af4a4acaa71c2109e83
LAST-MODIFIED:20170509T114946Z
SUMMARY:'Weekend dels 60'\, concentració de vehicles antics
DTSTART:20170513T073000Z
DTEND:20170514T140000Z
DESCRIPTION:El Prat Gran d’Encamp acollirà la 5a edició de la conc
 entració internacional de cotxes antics
LOCATION:Prat Gran d'Encamp
CATEGORIES:Concentracions i trobades
CONTACT:Lluís de Juan\, AAVA\, al telèfon (00 376) 335 798\, aava@aava.ad
CLASS:PUBLIC
END:VEVENT
END:VCALENDAR
