BEGIN:VCALENDAR
PRODID:-//AT Content Types//AT Event//EN
VERSION:2.0
METHOD:PUBLISH
BEGIN:VEVENT
DTSTAMP:20210817T202823Z
CREATED:20210331T110256Z
UID:ATEvent-249872b70b854397babf45a19df05ed6
LAST-MODIFIED:20210712T110002Z
SUMMARY:Visita nocturna a Sant Romà de les Bons i al seu conjunt històric
DTSTART:20210830T193000Z
DTEND:20210830T210000Z
LOCATION:Sant Romà de les Bons i al seu conjunt històric
CATEGORIES:Activitats culturals
CONTACT:Museu Etnogràfic Casa Cristo\, (+376) 833 551\, casacristo@encamp.ad
CLASS:PUBLIC
END:VEVENT
END:VCALENDAR
