BEGIN:VCALENDAR
PRODID:-//AT Content Types//AT Event//EN
VERSION:1.0
BEGIN:VEVENT
DTSTART:20150909T080000Z
DTEND:20151031T180000Z
DCREATED:20150909T091559Z
UID:ATEvent-185581a11abd449daf4edf3c6680e8ca
SEQUENCE:0
LAST-MODIFIED:20150910T131925Z
SUMMARY:VI Premi de narrativa fantàstica i de terror
PRIORITY:3
TRANSP:0
END:VEVENT
END:VCALENDAR
