BEGIN:VCALENDAR
PRODID:-//AT Content Types//AT Event//EN
VERSION:2.0
METHOD:PUBLISH
BEGIN:VEVENT
DTSTAMP:20210830T022255Z
CREATED:20151203T163851Z
UID:ATEvent-68d3478c0a864b89aea4a9f1f0964187
LAST-MODIFIED:20151204T103835Z
SUMMARY:Trofeu Andros - Winter Opening Party
DTSTART:20151211T150000Z
DTEND:20151212T200000Z
DESCRIPTION:El pròxim 12 de desembre\, l’associació Inpub del Pas 
 de la Casa organitza un reguitzell d’actes amb motiu de la celebraci
 ó del Trofeu Andros\, que se celebrarà l’11 i el 12 de desembre.
LOCATION:El Pas de la Casa
CATEGORIES:Esports
CLASS:PUBLIC
END:VEVENT
END:VCALENDAR
