BEGIN:VCALENDAR
PRODID:-//AT Content Types//AT Event//EN
VERSION:1.0
BEGIN:VEVENT
DTSTART:20160706T130000Z
DTEND:20160706T150000Z
DCREATED:20160426T163507Z
UID:ATEvent-8871cd5a9f224af6a349f756ca1604cf
SEQUENCE:0
LAST-MODIFIED:20160518T093218Z
SUMMARY:Tardes d’estiu al Pas de la Casa amb 'Farcell de jocs'
DESCRIPTION:Vine a jugar amb jocs tradicionals de fusta
LOCATION:Plaça de l'Església del Pas de la Casa
PRIORITY:3
TRANSP:0
END:VEVENT
END:VCALENDAR
