BEGIN:VCALENDAR
PRODID:-//AT Content Types//AT Event//EN
VERSION:2.0
METHOD:PUBLISH
BEGIN:VEVENT
DTSTAMP:20210829T121709Z
CREATED:20200702T080214Z
UID:ATEvent-2e5f2d35361a44a58596425f1aee2a54
LAST-MODIFIED:20200706T115810Z
SUMMARY:Activitats infantils amb El burro dels Jocs
DTSTART:20200805T130000Z
DTEND:20200805T143000Z
DESCRIPTION:Tardes d'estiu al Pas de la Casa
LOCATION:Plaça de l'Església
CATEGORIES:Espectacles
CLASS:PUBLIC
END:VEVENT
END:VCALENDAR
