BEGIN:VCALENDAR
PRODID:-//AT Content Types//AT Event//EN
VERSION:2.0
METHOD:PUBLISH
BEGIN:VEVENT
DTSTAMP:20210829T121751Z
CREATED:20170621T174438Z
UID:ATEvent-82e6c21c8319426a96e7aa994960116f
LAST-MODIFIED:20170621T174448Z
SUMMARY:Tardes d'estiu al Pas de la Casa amb 'Viva Mèxico'
DTSTART:20170817T130000Z
DTEND:20170817T140000Z
LOCATION:Plaça de l'Església al Pas de la Casa
CATEGORIES:Espectacles
CONTACT:Departament de Cultura\, al telèfon 731 490
CLASS:PUBLIC
END:VEVENT
END:VCALENDAR
