BEGIN:VCALENDAR
PRODID:-//AT Content Types//AT Event//EN
VERSION:1.0
BEGIN:VEVENT
DTSTART:20170802T130000Z
DTEND:20170802T140000Z
DCREATED:20170621T173320Z
UID:ATEvent-1e48ce9c47bc4a84b738f74b6cc567e0
SEQUENCE:0
LAST-MODIFIED:20170621T173326Z
SUMMARY:Tardes d'estiu al Pas de la Casa amb 'Festa Polinèsia'
LOCATION:Plaça de l'Església al Pas de la Casa
PRIORITY:3
TRANSP:0
END:VEVENT
END:VCALENDAR
