BEGIN:VCALENDAR
PRODID:-//AT Content Types//AT Event//EN
VERSION:1.0
BEGIN:VEVENT
DTSTART:20170719T130000Z
DTEND:20170719T140000Z
DCREATED:20170621T171225Z
UID:ATEvent-e3dc0754c57b47059f87887fe49a67c5
SEQUENCE:0
LAST-MODIFIED:20170621T171228Z
SUMMARY:Tardes d'estiu al Pas de la Casa amb 'Festa africana'
LOCATION:Plaça de l'Església al Pas de la Casa
PRIORITY:3
TRANSP:0
END:VEVENT
END:VCALENDAR
