BEGIN:VCALENDAR
PRODID:-//AT Content Types//AT Event//EN
VERSION:1.0
BEGIN:VEVENT
DTSTART:20170704T160000Z
DTEND:20170704T170000Z
DCREATED:20170621T164755Z
UID:ATEvent-87ec09e77e144eb190c57ac17dd2fb47
SEQUENCE:0
LAST-MODIFIED:20170621T164759Z
SUMMARY:Tardes d'estiu a Encamp amb 'Riallades'
LOCATION:Prat Gran d'Encamp
PRIORITY:3
TRANSP:0
END:VEVENT
END:VCALENDAR
