BEGIN:VCALENDAR
PRODID:-//AT Content Types//AT Event//EN
VERSION:2.0
METHOD:PUBLISH
BEGIN:VEVENT
DTSTAMP:20210908T202310Z
CREATED:20171020T105654Z
UID:ATEvent-fb116773b48a4a189a47ee8c0fd2096f
LAST-MODIFIED:20171020T105700Z
SUMMARY:Taller 'Mural pels Drets dels infants' al Pas de la Casa
DTSTART:20171116T160000Z
DTEND:20171117T180000Z
LOCATION:Biblioteca Comunal del Pas de la Casa
CATEGORIES:Infants
CONTACT:Biblioteca Comunal del Pas de la Casa\, al 856 787
CLASS:PUBLIC
END:VEVENT
END:VCALENDAR
