BEGIN:VCALENDAR
PRODID:-//AT Content Types//AT Event//EN
VERSION:1.0
BEGIN:VEVENT
DTSTART:20151210T170000Z
DTEND:20151210T183000Z
DCREATED:20151113T103045Z
UID:ATEvent-33990eab0d0e45b1b3bf3123f71acfe7
SEQUENCE:0
LAST-MODIFIED:20151113T103050Z
SUMMARY:Taller de Nadal de 'Papercraft' a Encamp
DESCRIPTION:A càrrec de Manel Arroyo.
LOCATION:Biblioteca Comunal d'Encamp
PRIORITY:3
TRANSP:0
END:VEVENT
END:VCALENDAR
