BEGIN:VCALENDAR
PRODID:-//AT Content Types//AT Event//EN
VERSION:1.0
BEGIN:VEVENT
DTSTART:20161215T170000Z
DTEND:20161215T180000Z
DCREATED:20161006T102224Z
UID:ATEvent-5b017f205e964c74b4d534f27dea619e
SEQUENCE:0
LAST-MODIFIED:20161125T110228Z
SUMMARY:Taller de Nadal a Encamp - Titelles de feltre
DESCRIPTION:A càrrec de Mercè Fernández.
LOCATION:Biblioteca Comunal d'Encamp
PRIORITY:3
TRANSP:0
END:VEVENT
END:VCALENDAR
