BEGIN:VCALENDAR
PRODID:-//AT Content Types//AT Event//EN
VERSION:1.0
BEGIN:VEVENT
DTSTART:20170915T160000Z
DTEND:20170917T160000Z
DCREATED:20170427T154024Z
UID:ATEvent-723205da589e4e84b0fc3109d65e7476
SEQUENCE:0
LAST-MODIFIED:20170914T135500Z
SUMMARY:Spartan Race Encamp - Campionat d'Europa
DESCRIPTION:Actualment\, la Rebook Spartan Race està considerada la m
 illor cursa d’obstacles del mon.
LOCATION:Grau Roig
PRIORITY:3
TRANSP:0
END:VEVENT
END:VCALENDAR
