BEGIN:VCALENDAR
PRODID:-//AT Content Types//AT Event//EN
VERSION:2.0
METHOD:PUBLISH
BEGIN:VEVENT
DTSTAMP:20210829T064713Z
CREATED:20190114T174605Z
UID:ATEvent-5a1d36710c1340e59ff1569552ab4aa8
LAST-MODIFIED:20190115T151921Z
SUMMARY:Setmana de la màgia: 'Biblioteca màgica'
DTSTART:20190131T170000Z
DTEND:20190131T190000Z
DESCRIPTION:Amb motiu del Dia internacional de la màgia\, l’il.lusi
 onista Toni Zamora visita la biblioteca per oferir un espectacle per a
  tots els públics. (Gatzara Espectacles).
LOCATION:Biblioteca d'El Pas de la Casa
CATEGORIES:Infants, Biblioteca
CONTACT:Biblioteca d'El Pas de la Casa\, (+376) 856 787\, bibliotecapas@encamp.ad
CLASS:PUBLIC
END:VEVENT
END:VCALENDAR
