BEGIN:VCALENDAR
PRODID:-//AT Content Types//AT Event//EN
VERSION:1.0
BEGIN:VEVENT
DTSTART:20161229T150000Z
DTEND:20161229T161500Z
DCREATED:20161010T151205Z
UID:ATEvent-fe91df316fb2469f9fe682025cc2001c
SEQUENCE:0
LAST-MODIFIED:20161010T151513Z
SUMMARY:Projecció de la pel·licula "Malson abans de Nadal" al Pas de la Casa
LOCATION:Sala de conferències del Centre Esportiu del Pas de la Casa
PRIORITY:3
TRANSP:0
END:VEVENT
END:VCALENDAR
