BEGIN:VCALENDAR
PRODID:-//AT Content Types//AT Event//EN
VERSION:2.0
METHOD:PUBLISH
BEGIN:VEVENT
DTSTAMP:20210908T202217Z
CREATED:20161230T131835Z
UID:ATEvent-cd3d2e445d65455298081061af201bfc
LAST-MODIFIED:20161230T132311Z
SUMMARY:Projecció de la pel·lícula 'Els Boxtrolls' al Pas de la Casa
DTSTART:20170104T160000Z
DTEND:20170104T173000Z
LOCATION:Biblioteca comunal del Pas de la Casa
CATEGORIES:Infants
CONTACT:Biblioteca comunal del Pas de la Casa\, al telèfon 856 787
CLASS:PUBLIC
END:VEVENT
END:VCALENDAR
