BEGIN:VCALENDAR
PRODID:-//AT Content Types//AT Event//EN
VERSION:2.0
METHOD:PUBLISH
BEGIN:VEVENT
DTSTAMP:20210827T141444Z
CREATED:20210504T133642Z
UID:ATEvent-dfe55271c4884d2fa7dc32077631b7df
LAST-MODIFIED:20210504T161158Z
SUMMARY:Presentació del llibre Recors d'Encamp
DTSTART:20210504T133000Z
DTEND:20210504T133000Z
LOCATION:Sala de Teatre de la Valireta
CATEGORIES:Activitats culturals
CONTACT:Departament de Cultura d'Encamp\, +376731490\, cultura@encamp.ad
CLASS:PUBLIC
END:VEVENT
END:VCALENDAR
