BEGIN:VCALENDAR
PRODID:-//AT Content Types//AT Event//EN
VERSION:2.0
METHOD:PUBLISH
BEGIN:VEVENT
DTSTAMP:20210829T065305Z
CREATED:20160406T162007Z
UID:ATEvent-db7badc363174afb81199e9f5066faef
LAST-MODIFIED:20160407T165259Z
SUMMARY:Presentació del llibre ‘Feliz y con ahorros’\, de l’encampadà Omar El Bachiri
DTSTART:20160408T180000Z
DTEND:20160408T180000Z
DESCRIPTION:La Biblioteca Comunal del Pas de la Casa acollirà\, el pr
 òxim 8 d’abril\, a les 20 hores la presentación del llibre
LOCATION:Biblioteca Comunal del Pas de la Casa
CATEGORIES:Biblioteca, Cultura
CLASS:PUBLIC
END:VEVENT
END:VCALENDAR
