BEGIN:VCALENDAR
PRODID:-//AT Content Types//AT Event//EN
VERSION:2.0
METHOD:PUBLISH
BEGIN:VEVENT
DTSTAMP:20210830T022218Z
CREATED:20200721T081031Z
UID:ATEvent-3be360362dd243c9911c9d65895ee212
LAST-MODIFIED:20200722T071929Z
SUMMARY:Pilates
DTSTART:20200722T170000Z
DTEND:20200722T183000Z
DESCRIPTION:Comencem les activitats gratuïtes i dirigides a càrrec d
 e Valeria Barisso a l'aire lliure durant el mes de juliol\, reserva al
  +376646194.
LOCATION:Prat Gran
CATEGORIES:Esports
CLASS:PUBLIC
END:VEVENT
END:VCALENDAR
