BEGIN:VCALENDAR
PRODID:-//AT Content Types//AT Event//EN
VERSION:1.0
BEGIN:VEVENT
DTSTART:20201011T070000Z
DTEND:20201011T080000Z
DCREATED:20200921T135744Z
UID:ATEvent-1fa770a7426d4a7a8f887931bfdcda21
SEQUENCE:0
LAST-MODIFIED:20201009T103405Z
SUMMARY:OTSO 25 k · 7K i 7K Rollerski
LOCATION:Encamp-Port d'Envalira
PRIORITY:3
TRANSP:0
END:VEVENT
END:VCALENDAR
