BEGIN:VCALENDAR
PRODID:-//AT Content Types//AT Event//EN
VERSION:1.0
BEGIN:VEVENT
DTSTART:20210712T130000Z
DTEND:20210712T140000Z
DCREATED:20210323T155222Z
UID:ATEvent-2f4d92a1d24b4103aeeb5e0d50b72c7c
SEQUENCE:0
LAST-MODIFIED:20210715T142438Z
SUMMARY:Oncarrer Pas de la Casa
LOCATION:Plaça de l'Església
PRIORITY:3
TRANSP:0
END:VEVENT
END:VCALENDAR
