BEGIN:VCALENDAR
PRODID:-//AT Content Types//AT Event//EN
VERSION:1.0
BEGIN:VEVENT
DTSTART:20210715T100000Z
DTEND:20210715T110000Z
DCREATED:20210323T155923Z
UID:ATEvent-c23a092139784184b6cfc6ffc364f29c
SEQUENCE:0
LAST-MODIFIED:20210715T142311Z
SUMMARY:Oncarrer Pas de la Casa
LOCATION:Plaça de l'Esgésia de Sant Pere
PRIORITY:3
TRANSP:0
END:VEVENT
END:VCALENDAR
