BEGIN:VCALENDAR
PRODID:-//AT Content Types//AT Event//EN
VERSION:1.0
BEGIN:VEVENT
DTSTART:20210713T170000Z
DTEND:20210713T180000Z
DCREATED:20210323T155337Z
UID:ATEvent-3ba16b4d535f4ced8e8fd82d006005e3
SEQUENCE:0
LAST-MODIFIED:20210712T083300Z
SUMMARY:Oncarrer Encamp
LOCATION:Plaça de Sant Miquel
PRIORITY:3
TRANSP:0
END:VEVENT
END:VCALENDAR
