BEGIN:VCALENDAR
PRODID:-//AT Content Types//AT Event//EN
VERSION:2.0
METHOD:PUBLISH
BEGIN:VEVENT
DTSTAMP:20210829T064051Z
CREATED:20190625T080324Z
UID:ATEvent-9bb6f9d6cf344630b197265b0ac7722e
LAST-MODIFIED:20190625T080334Z
SUMMARY:Oberta la convocatòria al X Premi de narrativa fantàstica i de terror d’Encamp
DTSTART:20190625T080000Z
DTEND:20191118T180000Z
LOCATION:Biblioteca Comunal d'Encamp
CATEGORIES:Premis i concursos
CONTACT:Biblioteca Comunal d'Encamp\, al telèfon 732 704\, biblioteca@encamp.ad
CLASS:PUBLIC
END:VEVENT
END:VCALENDAR
