BEGIN:VCALENDAR
PRODID:-//AT Content Types//AT Event//EN
VERSION:1.0
BEGIN:VEVENT
DTSTART:20160728T200000Z
DTEND:20160728T215500Z
DCREATED:20160518T092439Z
UID:ATEvent-9edc3ab5b93e43209164ff95ce241f75
SEQUENCE:0
LAST-MODIFIED:20160518T092449Z
SUMMARY:Nits d’estiu a Encamp amb Tribut a ABBA
DESCRIPTION:Tribut ABBA és un acurat treball amb música i veus en di
 recte que recreen les millors cançons del popular grup
LOCATION:Plaça dels Arínsols
PRIORITY:3
TRANSP:0
END:VEVENT
END:VCALENDAR
