BEGIN:VCALENDAR
PRODID:-//AT Content Types//AT Event//EN
VERSION:2.0
METHOD:PUBLISH
BEGIN:VEVENT
DTSTAMP:20210817T203104Z
CREATED:20210324T124131Z
UID:ATEvent-dcce81e09f644f39b4ce84de1d00ff06
LAST-MODIFIED:20210414T091919Z
SUMMARY:Musical infantil “Coco”
DTSTART:20211002T090000Z
DTEND:20211002T143000Z
LOCATION:Sala de Festes del Complex d'Encamp i Sala de Festes del Pas de la Casa
CATEGORIES:Activitats culturals
CONTACT:Departament de Cultura d'Encamp\, +376731490\, cultura@encamp.ad
CLASS:PUBLIC
END:VEVENT
END:VCALENDAR
