BEGIN:VCALENDAR
PRODID:-//AT Content Types//AT Event//EN
VERSION:2.0
METHOD:PUBLISH
BEGIN:VEVENT
DTSTAMP:20210817T202733Z
CREATED:20210716T091827Z
UID:ATEvent-89857dd0645d4ccd8f56bb562509814a
LAST-MODIFIED:20210716T145111Z
SUMMARY:Mercats d'estiu a la plaça - Pas de la Casa
DTSTART:20210827T100000Z
DTEND:20210829T215500Z
DESCRIPTION:Parades d'artesania durant tot el cap de setmana
CATEGORIES:Concentracions i trobades
CLASS:PUBLIC
END:VEVENT
END:VCALENDAR
