BEGIN:VCALENDAR
PRODID:-//AT Content Types//AT Event//EN
VERSION:2.0
METHOD:PUBLISH
BEGIN:VEVENT
DTSTAMP:20210829T121900Z
CREATED:20210218T141838Z
UID:ATEvent-e1461baabc6e454295dea524dc9c2866
LAST-MODIFIED:20210304T152257Z
SUMMARY:Les Singes aussi s'ennuient le Dimanche
DTSTART:20210313T200000Z
DTEND:20210313T213000Z
DESCRIPTION:Una comèdia romàntica i científica per a tots els públ
 ics
LOCATION:Sala de Festes del Complex Sociocultural d'Encamp
CATEGORIES:Espectacles
CONTACT:Departament de cultura \, 00376 731490\, cultura@encamp.ad
URL:https://ad.ambafrance.org/LES-SINGES-AUSSI-S-ENNUIENT-LE-DIMANCHE-13-3-21h
CLASS:PUBLIC
END:VEVENT
END:VCALENDAR
