BEGIN:VCALENDAR
PRODID:-//AT Content Types//AT Event//EN
VERSION:1.0
BEGIN:VEVENT
DTSTART:20180308T080000Z
DTEND:20180308T190000Z
DCREATED:20180226T123329Z
UID:ATEvent-c71d6673a30c48a1aa6f4ed892a36df6
SEQUENCE:0
LAST-MODIFIED:20180226T151417Z
SUMMARY:Les biblioteques celebren el Dia de la dona
LOCATION:Biblioteques comunals d'Encamp i del Pas de la Casa
PRIORITY:3
TRANSP:0
END:VEVENT
END:VCALENDAR
