BEGIN:VCALENDAR
PRODID:-//AT Content Types//AT Event//EN
VERSION:2.0
METHOD:PUBLISH
BEGIN:VEVENT
DTSTAMP:20210908T181644Z
CREATED:20160426T141524Z
UID:ATEvent-a20029ca743d41999c0045537dde3bf8
LAST-MODIFIED:20160426T144017Z
SUMMARY:La Purito Andorra 2016
DTSTART:20160813T060000Z
DTEND:20160814T140000Z
DESCRIPTION:La Purito 2016 passa per un recorregut amb extrema duresa 
 en què els cicloturistes gaudiran de molts privilegis
LOCATION:Sortida a avinguda Verge de Canòlich,50 de Sant Julià de Lòria
CATEGORIES:Esports
CLASS:PUBLIC
END:VEVENT
END:VCALENDAR
