BEGIN:VCALENDAR
PRODID:-//AT Content Types//AT Event//EN
VERSION:1.0
BEGIN:VEVENT
DTSTART:20161022T080000Z
DTEND:20161022T180000Z
DCREATED:20160928T075938Z
UID:ATEvent-c62d4059f4c44042a888cb75cde985e0
SEQUENCE:0
LAST-MODIFIED:20160928T080449Z
SUMMARY:I Campionat Internacional de Scrabble en català a Encamp
LOCATION:Biblioteca Comunal d'Encamp
PRIORITY:3
TRANSP:0
END:VEVENT
END:VCALENDAR
