BEGIN:VCALENDAR
PRODID:-//AT Content Types//AT Event//EN
VERSION:1.0
BEGIN:VEVENT
DTSTART:20171014T150000Z
DTEND:20171015T160000Z
DCREATED:20170918T133149Z
UID:ATEvent-4180e1af022f4ec7bfa67da99ee34749
SEQUENCE:0
LAST-MODIFIED:20170927T121140Z
SUMMARY:Festival de Titelles a Encamp i al Pas de la Casa 2017
DESCRIPTION:Entrades a la venda a partir del 2 d'octubre a www.moraban
 c.ad/entrades.
LOCATION:Sala de festes d'Encamp i del Pas de la Casa
PRIORITY:3
TRANSP:0
END:VEVENT
END:VCALENDAR
