BEGIN:VCALENDAR
PRODID:-//AT Content Types//AT Event//EN
VERSION:1.0
BEGIN:VEVENT
DTSTART:20160616T180000Z
DTEND:20160616T200000Z
DCREATED:20160525T150054Z
UID:ATEvent-4dc08579c7154753986c6ea600c4bccc
SEQUENCE:0
LAST-MODIFIED:20160525T150059Z
SUMMARY:Festival de fi de curs de l'Escola de Música
DESCRIPTION:L'entrada és gratuïta.
LOCATION:Sala d'actes de la Valireta
PRIORITY:3
TRANSP:0
END:VEVENT
END:VCALENDAR
