BEGIN:VCALENDAR
PRODID:-//AT Content Types//AT Event//EN
VERSION:1.0
BEGIN:VEVENT
DTSTART:20200812T130000Z
DTEND:20200812T140000Z
DCREATED:20200702T090246Z
UID:ATEvent-e019541b9cc747c491ae7c1d84081078
SEQUENCE:0
LAST-MODIFIED:20200807T153246Z
SUMMARY:Animació per la mainada...i més grandets de Jaume Barri
DESCRIPTION:Tardes d'estiu al Pas de la Casa
LOCATION:Plaça de l’Església
PRIORITY:3
TRANSP:0
END:VEVENT
END:VCALENDAR
