BEGIN:VCALENDAR
PRODID:-//AT Content Types//AT Event//EN
VERSION:1.0
BEGIN:VEVENT
DTSTART:20201130T080000Z
DTEND:20201221T170000Z
DCREATED:20200918T103947Z
UID:ATEvent-c97e95c5ff4b451285445deba973bdd5
SEQUENCE:0
LAST-MODIFIED:20201130T150234Z
SUMMARY:Exposició fotogràfica "Sicília" de Yoan Perissé
LOCATION:Biblioteca Comunal del Pas de la Casa
PRIORITY:3
TRANSP:0
END:VEVENT
END:VCALENDAR
