BEGIN:VCALENDAR
PRODID:-//AT Content Types//AT Event//EN
VERSION:1.0
BEGIN:VEVENT
DTSTART:20210424T070000Z
DTEND:20210620T160000Z
DCREATED:20210421T094436Z
UID:ATEvent-b28a3bfadc174bf59ca40c553c7a73a2
SEQUENCE:0
LAST-MODIFIED:20210421T112334Z
SUMMARY:Exposició bibliogràfica a la biblioteca de llibres rars i curiosos que parlen d’Andorra.
LOCATION:Biblioteca Comunal d'Encamp
PRIORITY:3
TRANSP:0
END:VEVENT
END:VCALENDAR
