BEGIN:VCALENDAR
PRODID:-//AT Content Types//AT Event//EN
VERSION:1.0
BEGIN:VEVENT
DTSTART:20210831T140000Z
DTEND:20210831T153000Z
DCREATED:20210324T101251Z
UID:ATEvent-72f6a77ed2b347ec96816f57ec604a1e
SEQUENCE:0
LAST-MODIFIED:20210712T122255Z
SUMMARY:Espectacle infantil Revoltim a Encamp
LOCATION:Plaça dels Arínsols d'Encamp
PRIORITY:3
TRANSP:0
END:VEVENT
END:VCALENDAR
