BEGIN:VCALENDAR
PRODID:-//AT Content Types//AT Event//EN
VERSION:2.0
METHOD:PUBLISH
BEGIN:VEVENT
DTSTAMP:20210817T202540Z
CREATED:20210324T100159Z
UID:ATEvent-c3f45b3f663c484ebb79939b40a93127
LAST-MODIFIED:20210712T121706Z
SUMMARY:Espectacle infantil Juguinejar al Pas de la Casa
DTSTART:20210823T090000Z
DTEND:20210823T103000Z
LOCATION:Plaça de l'Esgésia de Sant Pere
CATEGORIES:Infants
CONTACT:Departament de Cultura d'Encamp\, +376731490\, cultura@encamp.ad
CLASS:PUBLIC
END:VEVENT
END:VCALENDAR
