BEGIN:VCALENDAR
PRODID:-//AT Content Types//AT Event//EN
VERSION:1.0
BEGIN:VEVENT
DTSTART:20210824T140000Z
DTEND:20210824T153000Z
DCREATED:20210324T100646Z
UID:ATEvent-be4f367edc6348a49592d6b64ac53c4c
SEQUENCE:0
LAST-MODIFIED:20210721T120551Z
SUMMARY:Espectacle infantil Creakids a Encamp
LOCATION:Plaça dels Arínsols d'Encamp
PRIORITY:3
TRANSP:0
END:VEVENT
END:VCALENDAR
