BEGIN:VCALENDAR
PRODID:-//AT Content Types//AT Event//EN
VERSION:2.0
METHOD:PUBLISH
BEGIN:VEVENT
DTSTAMP:20210817T202801Z
CREATED:20210324T100938Z
UID:ATEvent-4ed5f2a34d9a4c3ca60724bcb6790606
LAST-MODIFIED:20210712T123339Z
SUMMARY:Espectacle infantil Andjocs al Pas de la Casa
DTSTART:20210830T090000Z
DTEND:20210830T103000Z
LOCATION:Plaça de l'Esgésia de Sant Pere
CATEGORIES:Infants
CONTACT:Departament de Cultura d'Encamp\, +376731490\, cultura@encamp.ad
CLASS:PUBLIC
END:VEVENT
END:VCALENDAR
