BEGIN:VCALENDAR
PRODID:-//AT Content Types//AT Event//EN
VERSION:1.0
BEGIN:VEVENT
DTSTART:20200817T130000Z
DTEND:20200817T143000Z
DCREATED:20200702T091722Z
UID:ATEvent-a238d60ffc52427e806bdedd4874b48b
SEQUENCE:0
LAST-MODIFIED:20200825T093551Z
SUMMARY:Espectacle infantil amb Festa sabonera de Xip Xap
DESCRIPTION:Tardes d'estiu al Pas de la Casa
LOCATION:Plaça de l'Església
PRIORITY:3
TRANSP:0
END:VEVENT
END:VCALENDAR
