BEGIN:VCALENDAR
PRODID:-//AT Content Types//AT Event//EN
VERSION:1.0
BEGIN:VEVENT
DTSTART:20200813T150000Z
DTEND:20200813T163000Z
DCREATED:20200702T090336Z
UID:ATEvent-25069dc69302430baedd38a13d22dc58
SEQUENCE:0
LAST-MODIFIED:20200706T121127Z
SUMMARY:Espectacle infantil amb El burro dels jocs
DESCRIPTION:Tardes d'estiu a Encamp
LOCATION:Prat Gran
PRIORITY:3
TRANSP:0
END:VEVENT
END:VCALENDAR
