BEGIN:VCALENDAR
PRODID:-//AT Content Types//AT Event//EN
VERSION:2.0
METHOD:PUBLISH
BEGIN:VEVENT
DTSTAMP:20210829T121722Z
CREATED:20200702T085123Z
UID:ATEvent-5ce728cbeddf45d694393cc02dd94bf4
LAST-MODIFIED:20200805T141812Z
SUMMARY:Espectacle infantil amb Coloraines Band
DTSTART:20200806T150000Z
DTEND:20200806T163000Z
DESCRIPTION:Tardes d'estiu a Encamp
LOCATION:Prat Gran
CATEGORIES:Espectacles
CLASS:PUBLIC
END:VEVENT
END:VCALENDAR
