BEGIN:VCALENDAR
PRODID:-//AT Content Types//AT Event//EN
VERSION:1.0
BEGIN:VEVENT
DTSTART:20200810T130000Z
DTEND:20200810T143000Z
DCREATED:20200702T085633Z
UID:ATEvent-cd0646df8b754d44a6314b5568287d73
SEQUENCE:0
LAST-MODIFIED:20200807T144451Z
SUMMARY:Espectacle infantil amb Aquafesta dels Més Tumàcat
DESCRIPTION:Tardes d'estiu al Pas de la Casa
LOCATION:Plaça de l’Església
PRIORITY:3
TRANSP:0
END:VEVENT
END:VCALENDAR
