BEGIN:VCALENDAR
PRODID:-//AT Content Types//AT Event//EN
VERSION:2.0
METHOD:PUBLISH
BEGIN:VEVENT
DTSTAMP:20210829T122141Z
CREATED:20210628T093153Z
UID:ATEvent-4bb9a13e08344ec68a4419209227c72b
LAST-MODIFIED:20210721T113512Z
SUMMARY:Enemigos de lo ajeno
DTSTART:20210722T173000Z
DTEND:20210722T183000Z
DESCRIPTION:Encamp en Clau de Llum
LOCATION:PLaça Sant Miquel
CATEGORIES:Espectacles
CLASS:PUBLIC
END:VEVENT
END:VCALENDAR
