BEGIN:VCALENDAR
PRODID:-//AT Content Types//AT Event//EN
VERSION:2.0
METHOD:PUBLISH
BEGIN:VEVENT
DTSTAMP:20210829T122103Z
CREATED:20210323T153641Z
UID:ATEvent-6c9c64481d9442ff8574b41c4c6dd083
LAST-MODIFIED:20210707T084057Z
SUMMARY:Video mapatge a la faÃ§ana de l'esglÃ©sia del Pas de la Casa
DTSTART:20210707T203000Z
DTEND:20210707T204500Z
DESCRIPTION:La proposta per al dia 7 de juliol de l'Encamp en clau de 
 llum Ã©s una projecciÃ³ inspirada en la natura a la faÃ§ana de l'esglÃ
 ©sia de Sant Pere.
LOCATION:Pas de la Casa
CATEGORIES:Espectacles
CONTACT:Departament de Cultura d'Encamp\, +376731490\, cultura@encamp.ad
CLASS:PUBLIC
END:VEVENT
END:VCALENDAR
