BEGIN:VCALENDAR
PRODID:-//AT Content Types//AT Event//EN
VERSION:2.0
METHOD:PUBLISH
BEGIN:VEVENT
DTSTAMP:20210829T121906Z
CREATED:20210323T153306Z
UID:ATEvent-9fa04f0bb98c4b21b6d7401b9ce5339c
LAST-MODIFIED:20210630T101006Z
SUMMARY:Videomapping Hotel Rosaleda
DTSTART:20210701T203000Z
DTEND:20210701T213000Z
DESCRIPTION:Encamp en Clau de Llum Encamp
LOCATION:Hotel Rosaleda
CATEGORIES:Espectacles, Encamp en clau de llum
CONTACT:Departament de Cultura d'Encamp\, +376731490\, cultura@encamp.ad
CLASS:PUBLIC
END:VEVENT
END:VCALENDAR
