BEGIN:VCALENDAR
PRODID:-//AT Content Types//AT Event//EN
VERSION:1.0
BEGIN:VEVENT
DTSTART:20210826T173000Z
DTEND:20210826T183000Z
DCREATED:20210324T122221Z
UID:ATEvent-9d7217b00e1744fa9a2a4188b7e1b9a4
SEQUENCE:0
LAST-MODIFIED:20210702T142239Z
SUMMARY:Coldday
DESCRIPTION:Encamp en Clau de Llum Encamp
LOCATION:Plaça de Sant Miquel
PRIORITY:3
TRANSP:0
END:VEVENT
END:VCALENDAR
